BEGIN:VCALENDAR
VERSION:2.0
PRODID:-//Evangelische Kirchengemeinde Rommerskirchen - ECPv6.15.15//NONSGML v1.0//EN
CALSCALE:GREGORIAN
METHOD:PUBLISH
X-WR-CALNAME:Evangelische Kirchengemeinde Rommerskirchen
X-ORIGINAL-URL:https://ev-roki.de
X-WR-CALDESC:Veranstaltungen für Evangelische Kirchengemeinde Rommerskirchen
REFRESH-INTERVAL;VALUE=DURATION:PT1H
X-Robots-Tag:noindex
X-PUBLISHED-TTL:PT1H
BEGIN:VTIMEZONE
TZID:Europe/Berlin
BEGIN:DAYLIGHT
TZOFFSETFROM:+0100
TZOFFSETTO:+0200
TZNAME:CEST
DTSTART:20250330T010000
END:DAYLIGHT
BEGIN:STANDARD
TZOFFSETFROM:+0200
TZOFFSETTO:+0100
TZNAME:CET
DTSTART:20251026T010000
END:STANDARD
BEGIN:DAYLIGHT
TZOFFSETFROM:+0100
TZOFFSETTO:+0200
TZNAME:CEST
DTSTART:20260329T010000
END:DAYLIGHT
BEGIN:STANDARD
TZOFFSETFROM:+0200
TZOFFSETTO:+0100
TZNAME:CET
DTSTART:20261025T010000
END:STANDARD
BEGIN:DAYLIGHT
TZOFFSETFROM:+0100
TZOFFSETTO:+0200
TZNAME:CEST
DTSTART:20270328T010000
END:DAYLIGHT
BEGIN:STANDARD
TZOFFSETFROM:+0200
TZOFFSETTO:+0100
TZNAME:CET
DTSTART:20271031T010000
END:STANDARD
END:VTIMEZONE
BEGIN:VEVENT
DTSTART;TZID=Europe/Berlin:20260104T101500
DTEND;TZID=Europe/Berlin:20260104T110000
DTSTAMP:20260425T141242
CREATED:20250918T172848Z
LAST-MODIFIED:20250918T172848Z
UID:34861-1767521700-1767524400@ev-roki.de
SUMMARY:Gottesdienst Samariterkirche & Kindergottesdienst
DESCRIPTION:
URL:https://ev-roki.de/event/gottesdienst-samariterkirche-kindergottesdienst-5/
LOCATION:Samariterkirche\, Grünweg 9\, Rommerskirchen-Eckum\, 41569
CATEGORIES:Gottesdienst,Kindergottesdienst,Samariterkirche
ORGANIZER;CN="Evangelische Kirchengemeinde":MAILTO:info@ev-roki.de
END:VEVENT
BEGIN:VEVENT
DTSTART;TZID=Europe/Berlin:20260104T120500
DTEND;TZID=Europe/Berlin:20260104T125000
DTSTAMP:20260425T141242
CREATED:20250918T172927Z
LAST-MODIFIED:20250918T172927Z
UID:34864-1767528300-1767531000@ev-roki.de
SUMMARY:Gottesdienst Kreuzkirche
DESCRIPTION:
URL:https://ev-roki.de/event/gottesdienst-kreuzkirche-105/
LOCATION:Kreuzkirche\, Königsberger Straße 13\, Rommerskirchen-Frixheim\, 41569
CATEGORIES:Gottesdienst,Kreuzkirche
ORGANIZER;CN="Evangelische Kirchengemeinde":MAILTO:info@ev-roki.de
END:VEVENT
BEGIN:VEVENT
DTSTART;TZID=Europe/Berlin:20260111T101500
DTEND;TZID=Europe/Berlin:20260111T110000
DTSTAMP:20260425T141242
CREATED:20260107T110523Z
LAST-MODIFIED:20260107T110523Z
UID:34943-1768126500-1768129200@ev-roki.de
SUMMARY:Gottesdienst Samariterkirche
DESCRIPTION:
URL:https://ev-roki.de/event/gottesdienst-samariterkirche-145/
LOCATION:Samariterkirche\, Grünweg 9\, Rommerskirchen-Eckum\, 41569
CATEGORIES:Gottesdienst,Samariterkirche
ORGANIZER;CN="Evangelische Kirchengemeinde":MAILTO:info@ev-roki.de
END:VEVENT
BEGIN:VEVENT
DTSTART;TZID=Europe/Berlin:20260111T180000
DTEND;TZID=Europe/Berlin:20260111T183000
DTSTAMP:20260425T141242
CREATED:20260107T110610Z
LAST-MODIFIED:20260107T110610Z
UID:34946-1768154400-1768156200@ev-roki.de
SUMMARY:Taizéandacht Kreuzkirche
DESCRIPTION:
URL:https://ev-roki.de/event/taizeandacht-kreuzkirche-43/
LOCATION:Kreuzkirche\, Königsberger Straße 13\, Rommerskirchen-Frixheim\, 41569
CATEGORIES:Gottesdienst,Kreuzkirche
ORGANIZER;CN="Evangelische Kirchengemeinde":MAILTO:info@ev-roki.de
END:VEVENT
BEGIN:VEVENT
DTSTART;TZID=Europe/Berlin:20260114T190000
DTEND;TZID=Europe/Berlin:20260114T200000
DTSTAMP:20260425T141242
CREATED:20260107T110715Z
LAST-MODIFIED:20260107T110715Z
UID:34949-1768417200-1768420800@ev-roki.de
SUMMARY:Ökumenischer Gottesdienst zur Einheit der Christen
DESCRIPTION:
URL:https://ev-roki.de/event/oekumenischer-gottesdienst-zur-einheit-der-christen-2/
LOCATION:Kreuzkirche\, Königsberger Straße 13\, Rommerskirchen-Frixheim\, 41569
CATEGORIES:Gottesdienst,Kreuzkirche
END:VEVENT
BEGIN:VEVENT
DTSTART;TZID=Europe/Berlin:20260118T101500
DTEND;TZID=Europe/Berlin:20260118T110000
DTSTAMP:20260425T141242
CREATED:20260107T111256Z
LAST-MODIFIED:20260107T111256Z
UID:34952-1768731300-1768734000@ev-roki.de
SUMMARY:Gottesdienst Samariterkirche
DESCRIPTION:
URL:https://ev-roki.de/event/gottesdienst-samariterkirche-146/
LOCATION:Samariterkirche\, Grünweg 9\, Rommerskirchen-Eckum\, 41569
CATEGORIES:Gottesdienst,Samariterkirche
ORGANIZER;CN="Evangelische Kirchengemeinde":MAILTO:info@ev-roki.de
END:VEVENT
BEGIN:VEVENT
DTSTART;TZID=Europe/Berlin:20260118T121500
DTEND;TZID=Europe/Berlin:20260118T125000
DTSTAMP:20260425T141242
CREATED:20260107T111345Z
LAST-MODIFIED:20260107T111345Z
UID:34955-1768738500-1768740600@ev-roki.de
SUMMARY:Gottesdienst Kreuzkirche
DESCRIPTION:
URL:https://ev-roki.de/event/gottesdienst-kreuzkirche-107/
LOCATION:Kreuzkirche\, Königsberger Straße 13\, Rommerskirchen-Frixheim\, 41569
CATEGORIES:Gottesdienst,Kreuzkirche
ORGANIZER;CN="Evangelische Kirchengemeinde":MAILTO:info@ev-roki.de
END:VEVENT
BEGIN:VEVENT
DTSTART;TZID=Europe/Berlin:20260125T101500
DTEND;TZID=Europe/Berlin:20260125T110000
DTSTAMP:20260425T141242
CREATED:20260107T111435Z
LAST-MODIFIED:20260107T111435Z
UID:34958-1769336100-1769338800@ev-roki.de
SUMMARY:Gottesdienst Samariterkirche m. Hl. Abendmahl
DESCRIPTION:
URL:https://ev-roki.de/event/gottesdienst-samariterkirche-m-hl-abendmahl-17/
LOCATION:Samariterkirche\, Grünweg 9\, Rommerskirchen-Eckum\, 41569
CATEGORIES:Gottesdienst,Samariterkirche
ORGANIZER;CN="Evangelische Kirchengemeinde":MAILTO:info@ev-roki.de
END:VEVENT
BEGIN:VEVENT
DTSTART;TZID=Europe/Berlin:20260125T120500
DTEND;TZID=Europe/Berlin:20260125T125000
DTSTAMP:20260425T141242
CREATED:20260107T111523Z
LAST-MODIFIED:20260107T111523Z
UID:34961-1769342700-1769345400@ev-roki.de
SUMMARY:Gottesdienst Kreuzkirche m. Hl. Abendmahl
DESCRIPTION:
URL:https://ev-roki.de/event/gottesdienst-kreuzkirche-m-hl-abendmahl-21/
LOCATION:Kreuzkirche\, Königsberger Straße 13\, Rommerskirchen-Frixheim\, 41569
CATEGORIES:Gottesdienst,Kreuzkirche
ORGANIZER;CN="Evangelische Kirchengemeinde":MAILTO:info@ev-roki.de
END:VEVENT
END:VCALENDAR