BEGIN:VCALENDAR
VERSION:2.0
PRODID:-//Evangelische Kirchengemeinde Rommerskirchen - ECPv6.15.15//NONSGML v1.0//EN
CALSCALE:GREGORIAN
METHOD:PUBLISH
X-WR-CALNAME:Evangelische Kirchengemeinde Rommerskirchen
X-ORIGINAL-URL:https://ev-roki.de
X-WR-CALDESC:Veranstaltungen für Evangelische Kirchengemeinde Rommerskirchen
REFRESH-INTERVAL;VALUE=DURATION:PT1H
X-Robots-Tag:noindex
X-PUBLISHED-TTL:PT1H
BEGIN:VTIMEZONE
TZID:Europe/Berlin
BEGIN:DAYLIGHT
TZOFFSETFROM:+0100
TZOFFSETTO:+0200
TZNAME:CEST
DTSTART:20240331T010000
END:DAYLIGHT
BEGIN:STANDARD
TZOFFSETFROM:+0200
TZOFFSETTO:+0100
TZNAME:CET
DTSTART:20241027T010000
END:STANDARD
BEGIN:DAYLIGHT
TZOFFSETFROM:+0100
TZOFFSETTO:+0200
TZNAME:CEST
DTSTART:20250330T010000
END:DAYLIGHT
BEGIN:STANDARD
TZOFFSETFROM:+0200
TZOFFSETTO:+0100
TZNAME:CET
DTSTART:20251026T010000
END:STANDARD
BEGIN:DAYLIGHT
TZOFFSETFROM:+0100
TZOFFSETTO:+0200
TZNAME:CEST
DTSTART:20260329T010000
END:DAYLIGHT
BEGIN:STANDARD
TZOFFSETFROM:+0200
TZOFFSETTO:+0100
TZNAME:CET
DTSTART:20261025T010000
END:STANDARD
END:VTIMEZONE
BEGIN:VEVENT
DTSTART;TZID=Europe/Berlin:20251102T101500
DTEND;TZID=Europe/Berlin:20251102T110000
DTSTAMP:20260425T174321
CREATED:20250918T165752Z
LAST-MODIFIED:20250918T165807Z
UID:34770-1762078500-1762081200@ev-roki.de
SUMMARY:Gottesdienst Samariterkirche & Kindergottesdienst
DESCRIPTION:
URL:https://ev-roki.de/event/gottesdienst-samariterkirche-140/
LOCATION:Samariterkirche\, Grünweg 9\, Rommerskirchen-Eckum\, 41569
CATEGORIES:Gottesdienst,Kindergottesdienst,Samariterkirche
ORGANIZER;CN="Evangelische Kirchengemeinde":MAILTO:info@ev-roki.de
END:VEVENT
BEGIN:VEVENT
DTSTART;TZID=Europe/Berlin:20251102T120500
DTEND;TZID=Europe/Berlin:20251102T125000
DTSTAMP:20260425T174321
CREATED:20250918T165848Z
LAST-MODIFIED:20250918T165848Z
UID:34774-1762085100-1762087800@ev-roki.de
SUMMARY:Gottesdienst Kreuzkirche
DESCRIPTION:
URL:https://ev-roki.de/event/gottesdienst-kreuzkirche-101/
LOCATION:Kreuzkirche\, Königsberger Straße 13\, Rommerskirchen-Frixheim\, 41569
CATEGORIES:Gottesdienst,Kreuzkirche
ORGANIZER;CN="Evangelische Kirchengemeinde":MAILTO:info@ev-roki.de
END:VEVENT
BEGIN:VEVENT
DTSTART;TZID=Europe/Berlin:20251109T101500
DTEND;TZID=Europe/Berlin:20251109T110000
DTSTAMP:20260425T174321
CREATED:20250918T170343Z
LAST-MODIFIED:20250918T170343Z
UID:34777-1762683300-1762686000@ev-roki.de
SUMMARY:Gottesdienst Samariterkirche
DESCRIPTION:
URL:https://ev-roki.de/event/gottesdienst-samariterkirche-141/
LOCATION:Samariterkirche\, Grünweg 9\, Rommerskirchen-Eckum\, 41569
CATEGORIES:Gottesdienst,Samariterkirche
ORGANIZER;CN="Evangelische Kirchengemeinde":MAILTO:info@ev-roki.de
END:VEVENT
BEGIN:VEVENT
DTSTART;TZID=Europe/Berlin:20251109T110000
DTEND;TZID=Europe/Berlin:20251109T120000
DTSTAMP:20260425T174321
CREATED:20250918T170416Z
LAST-MODIFIED:20250918T170416Z
UID:34780-1762686000-1762689600@ev-roki.de
SUMMARY:Gemeindeversammlung
DESCRIPTION:
URL:https://ev-roki.de/event/gemeindeversammlung-3/
LOCATION:Samariterkirche\, Grünweg 9\, Rommerskirchen-Eckum\, 41569
ORGANIZER;CN="Evangelische Kirchengemeinde":MAILTO:info@ev-roki.de
END:VEVENT
BEGIN:VEVENT
DTSTART;TZID=Europe/Berlin:20251109T180000
DTEND;TZID=Europe/Berlin:20251109T183000
DTSTAMP:20260425T174321
CREATED:20250918T170455Z
LAST-MODIFIED:20250918T170455Z
UID:34783-1762711200-1762713000@ev-roki.de
SUMMARY:Taizéandacht Kreuzkirche
DESCRIPTION:
URL:https://ev-roki.de/event/taizeandacht-kreuzkirche-41/
LOCATION:Kreuzkirche\, Königsberger Straße 13\, Rommerskirchen-Frixheim\, 41569
CATEGORIES:Gottesdienst,Kreuzkirche
ORGANIZER;CN="Evangelische Kirchengemeinde":MAILTO:info@ev-roki.de
END:VEVENT
BEGIN:VEVENT
DTSTART;TZID=Europe/Berlin:20251116T101500
DTEND;TZID=Europe/Berlin:20251116T105000
DTSTAMP:20260425T174321
CREATED:20250918T170614Z
LAST-MODIFIED:20250918T170614Z
UID:34786-1763288100-1763290200@ev-roki.de
SUMMARY:Familiengottesdienst Samariterkirche
DESCRIPTION:
URL:https://ev-roki.de/event/familiengottesdienst-samariterkirche-2/
LOCATION:Samariterkirche\, Grünweg 9\, Rommerskirchen-Eckum\, 41569
CATEGORIES:Gottesdienst,Kindergottesdienst,Samariterkirche
ORGANIZER;CN="Evangelische Kirchengemeinde":MAILTO:info@ev-roki.de
END:VEVENT
BEGIN:VEVENT
DTSTART;TZID=Europe/Berlin:20251119T190000
DTEND;TZID=Europe/Berlin:20251119T200000
DTSTAMP:20260425T174321
CREATED:20250918T170712Z
LAST-MODIFIED:20250918T170712Z
UID:34789-1763578800-1763582400@ev-roki.de
SUMMARY:Bittgottesdienst für den Frieden
DESCRIPTION:
URL:https://ev-roki.de/event/bittgottesdienst-fuer-den-frieden/
LOCATION:Kreuzkirche\, Königsberger Straße 13\, Rommerskirchen-Frixheim\, 41569
CATEGORIES:Gottesdienst,Kreuzkirche
ORGANIZER;CN="Evangelische Kirchengemeinde":MAILTO:info@ev-roki.de
END:VEVENT
BEGIN:VEVENT
DTSTART;TZID=Europe/Berlin:20251121T190000
DTEND;TZID=Europe/Berlin:20251121T220000
DTSTAMP:20260425T174321
CREATED:20250207T090953Z
LAST-MODIFIED:20250207T090953Z
UID:34454-1763751600-1763762400@ev-roki.de
SUMMARY:Kulturcafé
DESCRIPTION:
URL:https://ev-roki.de/event/kulturcafe-12/
LOCATION:Kulturcafe Ev. Kirche\, Grünweg 9\, Rommerskirchen\, 41569
CATEGORIES:Kulturcafé
ORGANIZER;CN="Evangelischen Kirchengemeinde Rommerskirchen - Kulturcaf%C3%A9":MAILTO:walter@grubert.koeln
END:VEVENT
BEGIN:VEVENT
DTSTART;TZID=Europe/Berlin:20251123T101500
DTEND;TZID=Europe/Berlin:20251123T110000
DTSTAMP:20260425T174321
CREATED:20250918T170839Z
LAST-MODIFIED:20250918T170839Z
UID:34792-1763892900-1763895600@ev-roki.de
SUMMARY:Gottesdienst Samariterkirche - Ewigkeitssonntag
DESCRIPTION:
URL:https://ev-roki.de/event/gottesdienst-samariterkirche-ewigkeitssonntag/
LOCATION:Samariterkirche\, Grünweg 9\, Rommerskirchen-Eckum\, 41569
CATEGORIES:Gottesdienst,Samariterkirche
ORGANIZER;CN="Evangelische Kirchengemeinde":MAILTO:info@ev-roki.de
END:VEVENT
BEGIN:VEVENT
DTSTART;TZID=Europe/Berlin:20251123T120500
DTEND;TZID=Europe/Berlin:20251123T125000
DTSTAMP:20260425T174321
CREATED:20250918T170927Z
LAST-MODIFIED:20250918T170927Z
UID:34795-1763899500-1763902200@ev-roki.de
SUMMARY:Gottesdienst Kreuzkirche - Ewigkeitssonntag
DESCRIPTION:
URL:https://ev-roki.de/event/gottesdienst-kreuzkirche-ewigkeitssonntag/
LOCATION:Kreuzkirche\, Königsberger Straße 13\, Rommerskirchen-Frixheim\, 41569
CATEGORIES:Gottesdienst,Kreuzkirche
ORGANIZER;CN="Evangelische Kirchengemeinde":MAILTO:info@ev-roki.de
END:VEVENT
BEGIN:VEVENT
DTSTART;TZID=Europe/Berlin:20251130T101500
DTEND;TZID=Europe/Berlin:20251130T110000
DTSTAMP:20260425T174321
CREATED:20250918T171018Z
LAST-MODIFIED:20250918T171018Z
UID:34798-1764497700-1764500400@ev-roki.de
SUMMARY:Gottesdienst Samariterkirche m. Hl. Abendmahl
DESCRIPTION:
URL:https://ev-roki.de/event/gottesdienst-samariterkirche-m-hl-abendmahl-14/
LOCATION:Samariterkirche\, Grünweg 9\, Rommerskirchen-Eckum\, 41569
CATEGORIES:Gottesdienst,Samariterkirche
ORGANIZER;CN="Evangelische Kirchengemeinde":MAILTO:info@ev-roki.de
END:VEVENT
BEGIN:VEVENT
DTSTART;TZID=Europe/Berlin:20251130T120500
DTEND;TZID=Europe/Berlin:20251130T125000
DTSTAMP:20260425T174321
CREATED:20250918T171100Z
LAST-MODIFIED:20250918T171100Z
UID:34801-1764504300-1764507000@ev-roki.de
SUMMARY:Gottesdienst Kreuzkirche m. Hl. Abendmahl
DESCRIPTION:
URL:https://ev-roki.de/event/gottesdienst-kreuzkirche-m-hl-abendmahl-18/
LOCATION:Kreuzkirche\, Königsberger Straße 13\, Rommerskirchen-Frixheim\, 41569
CATEGORIES:Gottesdienst,Kreuzkirche
ORGANIZER;CN="Evangelische Kirchengemeinde":MAILTO:info@ev-roki.de
END:VEVENT
BEGIN:VEVENT
DTSTART;TZID=Europe/Berlin:20251130T170000
DTEND;TZID=Europe/Berlin:20251130T210000
DTSTAMP:20260425T174321
CREATED:20250918T171324Z
LAST-MODIFIED:20250918T171324Z
UID:34804-1764522000-1764536400@ev-roki.de
SUMMARY:Adventsfenster Samariterkirche
DESCRIPTION:Die Wichtelwerkstatt beginnt schon um 16.00 Uhr!
URL:https://ev-roki.de/event/adventsfenster-samariterkirche/
LOCATION:Samariterkirche\, Grünweg 9\, Rommerskirchen-Eckum\, 41569
ORGANIZER;CN="Evangelische Kirchengemeinde":MAILTO:info@ev-roki.de
END:VEVENT
END:VCALENDAR