BEGIN:VCALENDAR
VERSION:2.0
PRODID:-//Evangelische Kirchengemeinde Rommerskirchen - ECPv6.15.15//NONSGML v1.0//EN
CALSCALE:GREGORIAN
METHOD:PUBLISH
X-WR-CALNAME:Evangelische Kirchengemeinde Rommerskirchen
X-ORIGINAL-URL:https://ev-roki.de
X-WR-CALDESC:Veranstaltungen für Evangelische Kirchengemeinde Rommerskirchen
REFRESH-INTERVAL;VALUE=DURATION:PT1H
X-Robots-Tag:noindex
X-PUBLISHED-TTL:PT1H
BEGIN:VTIMEZONE
TZID:Europe/Berlin
BEGIN:DAYLIGHT
TZOFFSETFROM:+0100
TZOFFSETTO:+0200
TZNAME:CEST
DTSTART:20250330T010000
END:DAYLIGHT
BEGIN:STANDARD
TZOFFSETFROM:+0200
TZOFFSETTO:+0100
TZNAME:CET
DTSTART:20251026T010000
END:STANDARD
BEGIN:DAYLIGHT
TZOFFSETFROM:+0100
TZOFFSETTO:+0200
TZNAME:CEST
DTSTART:20260329T010000
END:DAYLIGHT
BEGIN:STANDARD
TZOFFSETFROM:+0200
TZOFFSETTO:+0100
TZNAME:CET
DTSTART:20261025T010000
END:STANDARD
BEGIN:DAYLIGHT
TZOFFSETFROM:+0100
TZOFFSETTO:+0200
TZNAME:CEST
DTSTART:20270328T010000
END:DAYLIGHT
BEGIN:STANDARD
TZOFFSETFROM:+0200
TZOFFSETTO:+0100
TZNAME:CET
DTSTART:20271031T010000
END:STANDARD
END:VTIMEZONE
BEGIN:VEVENT
DTSTART;TZID=Europe/Berlin:20260403T103000
DTEND;TZID=Europe/Berlin:20260403T111500
DTSTAMP:20260421T233315
CREATED:20260219T173004Z
LAST-MODIFIED:20260219T173026Z
UID:35019-1775212200-1775214900@ev-roki.de
SUMMARY:Gottesdienst Friedhof am Teebaum
DESCRIPTION:Um 10.00 Uhr beginnt die Prozession an der Samariterkirche zum Friedhof am Teebaum.
URL:https://ev-roki.de/event/gottesdienst-friedhof-am-teebaum-2/
LOCATION:Friedhof am Teebaum\, Am Teebaum\, Rommerskirchen\, NRW\, 41569\, Deutschland
CATEGORIES:Gottesdienst
ORGANIZER;CN="Evangelische Kirchengemeinde":MAILTO:info@ev-roki.de
END:VEVENT
END:VCALENDAR