BEGIN:VCALENDAR
VERSION:2.0
PRODID:-//Evangelische Kirchengemeinde Rommerskirchen - ECPv6.15.15//NONSGML v1.0//EN
CALSCALE:GREGORIAN
METHOD:PUBLISH
X-WR-CALNAME:Evangelische Kirchengemeinde Rommerskirchen
X-ORIGINAL-URL:https://ev-roki.de
X-WR-CALDESC:Veranstaltungen für Evangelische Kirchengemeinde Rommerskirchen
REFRESH-INTERVAL;VALUE=DURATION:PT1H
X-Robots-Tag:noindex
X-PUBLISHED-TTL:PT1H
BEGIN:VTIMEZONE
TZID:Europe/Berlin
BEGIN:DAYLIGHT
TZOFFSETFROM:+0100
TZOFFSETTO:+0200
TZNAME:CEST
DTSTART:20250330T010000
END:DAYLIGHT
BEGIN:STANDARD
TZOFFSETFROM:+0200
TZOFFSETTO:+0100
TZNAME:CET
DTSTART:20251026T010000
END:STANDARD
BEGIN:DAYLIGHT
TZOFFSETFROM:+0100
TZOFFSETTO:+0200
TZNAME:CEST
DTSTART:20260329T010000
END:DAYLIGHT
BEGIN:STANDARD
TZOFFSETFROM:+0200
TZOFFSETTO:+0100
TZNAME:CET
DTSTART:20261025T010000
END:STANDARD
BEGIN:DAYLIGHT
TZOFFSETFROM:+0100
TZOFFSETTO:+0200
TZNAME:CEST
DTSTART:20270328T010000
END:DAYLIGHT
BEGIN:STANDARD
TZOFFSETFROM:+0200
TZOFFSETTO:+0100
TZNAME:CET
DTSTART:20271031T010000
END:STANDARD
END:VTIMEZONE
BEGIN:VEVENT
DTSTART;TZID=Europe/Berlin:20260329T101500
DTEND;TZID=Europe/Berlin:20260329T110000
DTSTAMP:20260421T235058
CREATED:20260219T171824Z
LAST-MODIFIED:20260219T171824Z
UID:34990-1774779300-1774782000@ev-roki.de
SUMMARY:Gottesdienst Samariterkirche m. Hl. Abendmahl
DESCRIPTION:
URL:https://ev-roki.de/event/gottesdienst-samariterkirche-m-hl-abendmahl-18/
LOCATION:Samariterkirche\, Grünweg 9\, Rommerskirchen-Eckum\, 41569
CATEGORIES:Gottesdienst,Samariterkirche
ORGANIZER;CN="Evangelische Kirchengemeinde":MAILTO:info@ev-roki.de
END:VEVENT
BEGIN:VEVENT
DTSTART;TZID=Europe/Berlin:20260329T120500
DTEND;TZID=Europe/Berlin:20260329T125000
DTSTAMP:20260421T235058
CREATED:20260219T172807Z
LAST-MODIFIED:20260219T172807Z
UID:35016-1774785900-1774788600@ev-roki.de
SUMMARY:Gottesdienst Kreuzkirche m. Hl. Abendmahl
DESCRIPTION:
URL:https://ev-roki.de/event/gottesdienst-kreuzkirche-m-hl-abendmahl-23/
LOCATION:Kreuzkirche\, Königsberger Straße 13\, Rommerskirchen-Frixheim\, 41569
CATEGORIES:Gottesdienst,Kreuzkirche
ORGANIZER;CN="Evangelische Kirchengemeinde":MAILTO:info@ev-roki.de
END:VEVENT
END:VCALENDAR