BEGIN:VCALENDAR
VERSION:2.0
PRODID:-//Evangelische Kirchengemeinde Rommerskirchen - ECPv6.15.15//NONSGML v1.0//EN
CALSCALE:GREGORIAN
METHOD:PUBLISH
X-ORIGINAL-URL:https://ev-roki.de
X-WR-CALDESC:Veranstaltungen für Evangelische Kirchengemeinde Rommerskirchen
REFRESH-INTERVAL;VALUE=DURATION:PT1H
X-Robots-Tag:noindex
X-PUBLISHED-TTL:PT1H
BEGIN:VTIMEZONE
TZID:Europe/Berlin
BEGIN:DAYLIGHT
TZOFFSETFROM:+0100
TZOFFSETTO:+0200
TZNAME:CEST
DTSTART:20240331T010000
END:DAYLIGHT
BEGIN:STANDARD
TZOFFSETFROM:+0200
TZOFFSETTO:+0100
TZNAME:CET
DTSTART:20241027T010000
END:STANDARD
BEGIN:DAYLIGHT
TZOFFSETFROM:+0100
TZOFFSETTO:+0200
TZNAME:CEST
DTSTART:20250330T010000
END:DAYLIGHT
BEGIN:STANDARD
TZOFFSETFROM:+0200
TZOFFSETTO:+0100
TZNAME:CET
DTSTART:20251026T010000
END:STANDARD
BEGIN:DAYLIGHT
TZOFFSETFROM:+0100
TZOFFSETTO:+0200
TZNAME:CEST
DTSTART:20260329T010000
END:DAYLIGHT
BEGIN:STANDARD
TZOFFSETFROM:+0200
TZOFFSETTO:+0100
TZNAME:CET
DTSTART:20261025T010000
END:STANDARD
END:VTIMEZONE
BEGIN:VEVENT
DTSTART;TZID=Europe/Berlin:20251121T190000
DTEND;TZID=Europe/Berlin:20251121T220000
DTSTAMP:20260425T211657
CREATED:20250207T090953Z
LAST-MODIFIED:20250207T090953Z
UID:34454-1763751600-1763762400@ev-roki.de
SUMMARY:Kulturcafé
DESCRIPTION:
URL:https://ev-roki.de/event/kulturcafe-12/
LOCATION:Kulturcafe Ev. Kirche\, Grünweg 9\, Rommerskirchen\, 41569
CATEGORIES:Kulturcafé
ORGANIZER;CN="Evangelischen Kirchengemeinde Rommerskirchen - Kulturcaf%C3%A9":MAILTO:walter@grubert.koeln
END:VEVENT
END:VCALENDAR