BEGIN:VCALENDAR
VERSION:2.0
PRODID:-//Evangelische Kirchengemeinde Rommerskirchen - ECPv6.15.15//NONSGML v1.0//EN
CALSCALE:GREGORIAN
METHOD:PUBLISH
X-ORIGINAL-URL:https://ev-roki.de
X-WR-CALDESC:Veranstaltungen für Evangelische Kirchengemeinde Rommerskirchen
REFRESH-INTERVAL;VALUE=DURATION:PT1H
X-Robots-Tag:noindex
X-PUBLISHED-TTL:PT1H
BEGIN:VTIMEZONE
TZID:Europe/Berlin
BEGIN:DAYLIGHT
TZOFFSETFROM:+0100
TZOFFSETTO:+0200
TZNAME:CEST
DTSTART:20240331T010000
END:DAYLIGHT
BEGIN:STANDARD
TZOFFSETFROM:+0200
TZOFFSETTO:+0100
TZNAME:CET
DTSTART:20241027T010000
END:STANDARD
BEGIN:DAYLIGHT
TZOFFSETFROM:+0100
TZOFFSETTO:+0200
TZNAME:CEST
DTSTART:20250330T010000
END:DAYLIGHT
BEGIN:STANDARD
TZOFFSETFROM:+0200
TZOFFSETTO:+0100
TZNAME:CET
DTSTART:20251026T010000
END:STANDARD
BEGIN:DAYLIGHT
TZOFFSETFROM:+0100
TZOFFSETTO:+0200
TZNAME:CEST
DTSTART:20260329T010000
END:DAYLIGHT
BEGIN:STANDARD
TZOFFSETFROM:+0200
TZOFFSETTO:+0100
TZNAME:CET
DTSTART:20261025T010000
END:STANDARD
END:VTIMEZONE
BEGIN:VEVENT
DTSTART;TZID=Europe/Berlin:20251109T101500
DTEND;TZID=Europe/Berlin:20251109T110000
DTSTAMP:20260425T211656
CREATED:20250918T170343Z
LAST-MODIFIED:20250918T170343Z
UID:34777-1762683300-1762686000@ev-roki.de
SUMMARY:Gottesdienst Samariterkirche
DESCRIPTION:
URL:https://ev-roki.de/event/gottesdienst-samariterkirche-141/
LOCATION:Samariterkirche\, Grünweg 9\, Rommerskirchen-Eckum\, 41569
CATEGORIES:Gottesdienst,Samariterkirche
ORGANIZER;CN="Evangelische Kirchengemeinde":MAILTO:info@ev-roki.de
END:VEVENT
BEGIN:VEVENT
DTSTART;TZID=Europe/Berlin:20251109T110000
DTEND;TZID=Europe/Berlin:20251109T120000
DTSTAMP:20260425T211657
CREATED:20250918T170416Z
LAST-MODIFIED:20250918T170416Z
UID:34780-1762686000-1762689600@ev-roki.de
SUMMARY:Gemeindeversammlung
DESCRIPTION:
URL:https://ev-roki.de/event/gemeindeversammlung-3/
LOCATION:Samariterkirche\, Grünweg 9\, Rommerskirchen-Eckum\, 41569
ORGANIZER;CN="Evangelische Kirchengemeinde":MAILTO:info@ev-roki.de
END:VEVENT
BEGIN:VEVENT
DTSTART;TZID=Europe/Berlin:20251109T180000
DTEND;TZID=Europe/Berlin:20251109T183000
DTSTAMP:20260425T211657
CREATED:20250918T170455Z
LAST-MODIFIED:20250918T170455Z
UID:34783-1762711200-1762713000@ev-roki.de
SUMMARY:Taizéandacht Kreuzkirche
DESCRIPTION:
URL:https://ev-roki.de/event/taizeandacht-kreuzkirche-41/
LOCATION:Kreuzkirche\, Königsberger Straße 13\, Rommerskirchen-Frixheim\, 41569
CATEGORIES:Gottesdienst,Kreuzkirche
ORGANIZER;CN="Evangelische Kirchengemeinde":MAILTO:info@ev-roki.de
END:VEVENT
END:VCALENDAR